BEGIN:VCALENDAR
VERSION:2.0
PRODID:-//BISM - ECPv6.15.20//NONSGML v1.0//EN
CALSCALE:GREGORIAN
METHOD:PUBLISH
X-WR-CALNAME:BISM
X-ORIGINAL-URL:https://bism.org
X-WR-CALDESC:Events for BISM
REFRESH-INTERVAL;VALUE=DURATION:PT1H
X-Robots-Tag:noindex
X-PUBLISHED-TTL:PT1H
BEGIN:VTIMEZONE
TZID:America/New_York
BEGIN:DAYLIGHT
TZOFFSETFROM:-0500
TZOFFSETTO:-0400
TZNAME:EDT
DTSTART:20250309T070000
END:DAYLIGHT
BEGIN:STANDARD
TZOFFSETFROM:-0400
TZOFFSETTO:-0500
TZNAME:EST
DTSTART:20251102T060000
END:STANDARD
BEGIN:DAYLIGHT
TZOFFSETFROM:-0500
TZOFFSETTO:-0400
TZNAME:EDT
DTSTART:20260308T070000
END:DAYLIGHT
BEGIN:STANDARD
TZOFFSETFROM:-0400
TZOFFSETTO:-0500
TZNAME:EST
DTSTART:20261101T060000
END:STANDARD
BEGIN:DAYLIGHT
TZOFFSETFROM:-0500
TZOFFSETTO:-0400
TZNAME:EDT
DTSTART:20270314T070000
END:DAYLIGHT
BEGIN:STANDARD
TZOFFSETFROM:-0400
TZOFFSETTO:-0500
TZNAME:EST
DTSTART:20271107T060000
END:STANDARD
END:VTIMEZONE
BEGIN:VEVENT
DTSTART;TZID=America/New_York:20260313T130000
DTEND;TZID=America/New_York:20260313T143000
DTSTAMP:20260421T040837
CREATED:20260302T144937Z
LAST-MODIFIED:20260302T144937Z
UID:7921-1773406800-1773412200@bism.org
SUMMARY:Senior Mobile Team Phone Workshop
DESCRIPTION:
URL:https://bism.org/calendar/senior-mobile-team-phone-workshop/
LOCATION:Roland Park Place\, 830 W. 40th Street\, Baltimore\, MD\, 21211\, United States
CATEGORIES:Senior Programs
ORGANIZER;CN="Senior Programming":MAILTO:abreitschwerdt@bism.org
END:VEVENT
END:VCALENDAR